BEGIN:VCALENDAR
VERSION:2.0
PRODID:-//Seelsorgeeinheit Magdenau - ECPv5.14.2.1//NONSGML v1.0//EN
CALSCALE:GREGORIAN
METHOD:PUBLISH
X-WR-CALNAME:Seelsorgeeinheit Magdenau
X-ORIGINAL-URL:https://search.se-ma.ch
X-WR-CALDESC:Veranstaltungen für Seelsorgeeinheit Magdenau
BEGIN:VTIMEZONE
TZID:Europe/Zurich
BEGIN:DAYLIGHT
TZOFFSETFROM:+0100
TZOFFSETTO:+0200
TZNAME:CEST
DTSTART:20220327T010000
END:DAYLIGHT
BEGIN:STANDARD
TZOFFSETFROM:+0200
TZOFFSETTO:+0100
TZNAME:CET
DTSTART:20221030T010000
END:STANDARD
END:VTIMEZONE
BEGIN:VEVENT
DTSTART;TZID=Europe/Zurich:20220501T084500
DTEND;TZID=Europe/Zurich:20220501T094500
DTSTAMP:20260421T222627
CREATED:20220329T114818Z
LAST-MODIFIED:20220329T120513Z
UID:33068-1651394700-1651398300@search.se-ma.ch
SUMMARY:Eucharistiefeier in Wolfertswil
DESCRIPTION:
URL:https://search.se-ma.ch/event/eucharistiefeier-in-wolfertswil/
LOCATION:Kirche Bruder Klaus\, Wolfertswil\, 9116
CATEGORIES:Gottesdienste
END:VEVENT
BEGIN:VEVENT
DTSTART;TZID=Europe/Zurich:20220501T101500
DTEND;TZID=Europe/Zurich:20220501T110000
DTSTAMP:20260421T222627
CREATED:20210802T114933Z
LAST-MODIFIED:20220303T060825Z
UID:28849-1651400100-1651402800@search.se-ma.ch
SUMMARY:Sunntigsfiir für die 1. und 2. Klasse\, in Flawil
DESCRIPTION:Daten Sunntigsfiir
URL:https://search.se-ma.ch/event/suntigsfiir-fuer-die-1-und-2-klasse-in-flawil-12/
LOCATION:Pfarreizentrum Flawil\, Enzenbühlstrasse 16\, Flawil\, 9230\, Schweiz
CATEGORIES:Gottesdienste,Kinder und Familien
ATTACH;FMTTYPE=image/jpeg:https://search.se-ma.ch/wp-content/uploads/2022/01/logo-sunntigsfiir-2022-1-scaled-e1644135600524.jpg
END:VEVENT
BEGIN:VEVENT
DTSTART;TZID=Europe/Zurich:20220501T101500
DTEND;TZID=Europe/Zurich:20220501T113000
DTSTAMP:20260421T222627
CREATED:20210928T121137Z
LAST-MODIFIED:20220427T121148Z
UID:29812-1651400100-1651404600@search.se-ma.ch
SUMMARY:Erstkommunionsfeier Degersheim und Wolfertswil in Degersheim
DESCRIPTION:Wir feiern den «Weissen Sonntag». Dabei werden die Erstkommunionkinder feierlich in die Eucharistiegemeinschaft der Pfarrei aufgenommen. \nBitte benutzen Sie die Parkplätze bei der Post\, Gemeinde oder beim Friedhof. Parkieren auf den Strassen rund um die Kirche kann zu Bussen führen. \nParkplätze für Gottesdienstbesucher
URL:https://search.se-ma.ch/event/erstkommunionsfeier-in-degersheim/
LOCATION:Jakobuskirche Degersheim\, Bergstrasse 10\, Degersheim\, 9113\, Schweiz
CATEGORIES:Gottesdienste,Kinder und Familien
END:VEVENT
BEGIN:VEVENT
DTSTART;TZID=Europe/Zurich:20220501T101500
DTEND;TZID=Europe/Zurich:20220501T111500
DTSTAMP:20260421T222627
CREATED:20220206T091240Z
LAST-MODIFIED:20220206T091240Z
UID:31713-1651400100-1651403700@search.se-ma.ch
SUMMARY:Eucharistiefeier in Flawil
DESCRIPTION:
URL:https://search.se-ma.ch/event/eucharistiefeier-in-flawil-21/
LOCATION:St. Laurentius Kirche Flawil\, Enzenbühlstrasse 20\, Flawil\, 9230\, Schweiz
CATEGORIES:Gottesdienste
END:VEVENT
END:VCALENDAR