BEGIN:VCALENDAR
VERSION:2.0
PRODID:-//Seelsorgeeinheit Magdenau - ECPv5.14.2.1//NONSGML v1.0//EN
CALSCALE:GREGORIAN
METHOD:PUBLISH
X-WR-CALNAME:Seelsorgeeinheit Magdenau
X-ORIGINAL-URL:https://search.se-ma.ch
X-WR-CALDESC:Veranstaltungen für Seelsorgeeinheit Magdenau
BEGIN:VTIMEZONE
TZID:Europe/Zurich
BEGIN:DAYLIGHT
TZOFFSETFROM:+0100
TZOFFSETTO:+0200
TZNAME:CEST
DTSTART:20220327T010000
END:DAYLIGHT
BEGIN:STANDARD
TZOFFSETFROM:+0200
TZOFFSETTO:+0100
TZNAME:CET
DTSTART:20221030T010000
END:STANDARD
END:VTIMEZONE
BEGIN:VEVENT
DTSTART;TZID=Europe/Zurich:20220508T084500
DTEND;TZID=Europe/Zurich:20220508T093000
DTSTAMP:20260421T115024
CREATED:20220206T094709Z
LAST-MODIFIED:20220206T101407Z
UID:31768-1651999500-1652002200@search.se-ma.ch
SUMMARY:Kommunionfeier für Kinder und Erwachsene in Niederglatt
DESCRIPTION:zum Muttertag
URL:https://search.se-ma.ch/event/kommunionfeier-fuer-kinder-und-erwachsene-zum-muttertag-in-niederglatt/
LOCATION:Felix + Regula Kirche Niederglatt\, Niederglatt\, 9240\, Schweiz
CATEGORIES:Gottesdienste,Kinder und Familien
END:VEVENT
BEGIN:VEVENT
DTSTART;TZID=Europe/Zurich:20220508T090000
DTEND;TZID=Europe/Zurich:20220508T094500
DTSTAMP:20260421T115024
CREATED:20211227T101228Z
LAST-MODIFIED:20211227T101228Z
UID:31135-1652000400-1652003100@search.se-ma.ch
SUMMARY:Eucharistiefeier in Italiensch in Flawil
DESCRIPTION:Kapelle St. Laurentius
URL:https://search.se-ma.ch/event/eucharistiefeier-in-italiensch-in-flawil-5/
LOCATION:Kapelle St. Laurentius Flawil\, Enzenbühlstrasse 20\, Flawil\, 9230\, Schweiz
CATEGORIES:Gottesdienste
END:VEVENT
BEGIN:VEVENT
DTSTART;TZID=Europe/Zurich:20220508T101500
DTEND;TZID=Europe/Zurich:20220508T111500
DTSTAMP:20260421T115024
CREATED:20220206T084928Z
LAST-MODIFIED:20220206T084928Z
UID:31691-1652004900-1652008500@search.se-ma.ch
SUMMARY:Kommunionfeier für Kinder und Erwachsene in Flawil
DESCRIPTION:zum Muttertag
URL:https://search.se-ma.ch/event/kommunionfeier-fuer-kinder-und-erwachsene-in-flawil/
LOCATION:St. Laurentius Kirche Flawil\, Enzenbühlstrasse 20\, Flawil\, 9230\, Schweiz
CATEGORIES:Gottesdienste,Kinder und Familien
END:VEVENT
BEGIN:VEVENT
DTSTART;TZID=Europe/Zurich:20220508T190000
DTEND;TZID=Europe/Zurich:20220508T200000
DTSTAMP:20260421T115024
CREATED:20220216T095154Z
LAST-MODIFIED:20220216T095154Z
UID:32111-1652036400-1652040000@search.se-ma.ch
SUMMARY:Abendlob in Degersheim
DESCRIPTION:
URL:https://search.se-ma.ch/event/abendlob-in-degersheim/
LOCATION:Jakobuskirche Kapelle Degersheim\, Bergstrasse 10\, Degersheim\, St. Gallen\, 9113\, Schweiz
CATEGORIES:Gottesdienste
END:VEVENT
END:VCALENDAR