BEGIN:VCALENDAR
VERSION:2.0
PRODID:-//Seelsorgeeinheit Magdenau - ECPv5.14.2.1//NONSGML v1.0//EN
CALSCALE:GREGORIAN
METHOD:PUBLISH
X-WR-CALNAME:Seelsorgeeinheit Magdenau
X-ORIGINAL-URL:https://search.se-ma.ch
X-WR-CALDESC:Veranstaltungen für Seelsorgeeinheit Magdenau
BEGIN:VTIMEZONE
TZID:Europe/Zurich
BEGIN:DAYLIGHT
TZOFFSETFROM:+0100
TZOFFSETTO:+0200
TZNAME:CEST
DTSTART:20220327T010000
END:DAYLIGHT
BEGIN:STANDARD
TZOFFSETFROM:+0200
TZOFFSETTO:+0100
TZNAME:CET
DTSTART:20221030T010000
END:STANDARD
END:VTIMEZONE
BEGIN:VEVENT
DTSTART;TZID=Europe/Zurich:20220522T083000
DTEND;TZID=Europe/Zurich:20220522T091500
DTSTAMP:20260421T143215
CREATED:20211227T101540Z
LAST-MODIFIED:20211227T101540Z
UID:31157-1653208200-1653210900@search.se-ma.ch
SUMMARY:Eucharistiefeier in Italiensch in Flawil
DESCRIPTION:Kapelle St. Laurentius
URL:https://search.se-ma.ch/event/eucharistiefeier-in-italiensch-in-flawil-16/
LOCATION:Kapelle St. Laurentius Flawil\, Enzenbühlstrasse 20\, Flawil\, 9230\, Schweiz
CATEGORIES:Gottesdienste
END:VEVENT
BEGIN:VEVENT
DTSTART;TZID=Europe/Zurich:20220522T084500
DTEND;TZID=Europe/Zurich:20220522T093000
DTSTAMP:20260421T143215
CREATED:20220206T095242Z
LAST-MODIFIED:20220206T095242Z
UID:31776-1653209100-1653211800@search.se-ma.ch
SUMMARY:Eucharistiefeier in Niederglatt
DESCRIPTION:mit Kirchenchor Flawil
URL:https://search.se-ma.ch/event/eucharistiefeier-in-niederglatt-6/
LOCATION:Felix + Regula Kirche Niederglatt\, Niederglatt\, 9240\, Schweiz
CATEGORIES:Gottesdienste
END:VEVENT
BEGIN:VEVENT
DTSTART;TZID=Europe/Zurich:20220522T101500
DTEND;TZID=Europe/Zurich:20220522T110000
DTSTAMP:20260421T143215
CREATED:20220206T091552Z
LAST-MODIFIED:20220206T091552Z
UID:31719-1653214500-1653217200@search.se-ma.ch
SUMMARY:Eucharistiefeier mit Kirchenchor in Flawil
DESCRIPTION:
URL:https://search.se-ma.ch/event/eucharistiefeier-mit-kirchenchor-in-flawil-3/
LOCATION:St. Laurentius Kirche Flawil\, Enzenbühlstrasse 20\, Flawil\, 9230\, Schweiz
CATEGORIES:Gottesdienste
END:VEVENT
END:VCALENDAR