BEGIN:VCALENDAR
VERSION:2.0
PRODID:-//Seelsorgeeinheit Magdenau - ECPv5.14.2.1//NONSGML v1.0//EN
CALSCALE:GREGORIAN
METHOD:PUBLISH
X-WR-CALNAME:Seelsorgeeinheit Magdenau
X-ORIGINAL-URL:https://search.se-ma.ch
X-WR-CALDESC:Veranstaltungen für Seelsorgeeinheit Magdenau
BEGIN:VTIMEZONE
TZID:Europe/Zurich
BEGIN:DAYLIGHT
TZOFFSETFROM:+0100
TZOFFSETTO:+0200
TZNAME:CEST
DTSTART:20220327T010000
END:DAYLIGHT
BEGIN:STANDARD
TZOFFSETFROM:+0200
TZOFFSETTO:+0100
TZNAME:CET
DTSTART:20221030T010000
END:STANDARD
END:VTIMEZONE
BEGIN:VEVENT
DTSTART;TZID=Europe/Zurich:20220302T140000
DTEND;TZID=Europe/Zurich:20220302T170000
DTSTAMP:20260421T102456
CREATED:20210903T063911Z
LAST-MODIFIED:20220125T074040Z
UID:29361-1646229600-1646240400@search.se-ma.ch
SUMMARY:Besuch in der Hostienbäckerei
DESCRIPTION:der Erstkommunion-Kinder in Flawil \nInformationen Erstkommunion
URL:https://search.se-ma.ch/event/erstkommunion-flawil-4/
CATEGORIES:Anlässe und Veranstaltungen,Kinder und Familien
END:VEVENT
END:VCALENDAR