BEGIN:VCALENDAR
VERSION:2.0
PRODID:-//Seelsorgeeinheit Magdenau - ECPv5.14.2.1//NONSGML v1.0//EN
CALSCALE:GREGORIAN
METHOD:PUBLISH
X-WR-CALNAME:Seelsorgeeinheit Magdenau
X-ORIGINAL-URL:https://search.se-ma.ch
X-WR-CALDESC:Veranstaltungen für Seelsorgeeinheit Magdenau
BEGIN:VTIMEZONE
TZID:Europe/Zurich
BEGIN:DAYLIGHT
TZOFFSETFROM:+0100
TZOFFSETTO:+0200
TZNAME:CEST
DTSTART:20220327T010000
END:DAYLIGHT
BEGIN:STANDARD
TZOFFSETFROM:+0200
TZOFFSETTO:+0100
TZNAME:CET
DTSTART:20221030T010000
END:STANDARD
END:VTIMEZONE
BEGIN:VEVENT
DTSTART;TZID=Europe/Zurich:20220320T170000
DTEND;TZID=Europe/Zurich:20220320T173000
DTSTAMP:20260421T113003
CREATED:20220310T061502Z
LAST-MODIFIED:20220310T061922Z
UID:32683-1647795600-1647797400@search.se-ma.ch
SUMMARY:Flawiler Friedensgebet
DESCRIPTION:  \nAngesichts der dramatischen Lage in der Ukraine zeigen sich auch die Schweizer Kirchen und Religionsgemeinschaften bestürzt. In verschiedenen Städten finden in den kommenden Tagen Friedensgebete statt. In Flawil treffen sich Angehörige verschiedener Konfessionen zum Friedensgebet in der methodistische Kirche. \nFlyer Flawiler Friedensgebet
URL:https://search.se-ma.ch/event/flawiler-friedensgebet-2/
LOCATION:Evangelisch-methodistische Kirchgemeinde
CATEGORIES:Anlässe und Veranstaltungen,Gottesdienste
ATTACH;FMTTYPE=image/jpeg:https://search.se-ma.ch/wp-content/uploads/2022/03/friedensgebete-kachel-e1646893150791.jpg
END:VEVENT
END:VCALENDAR