BEGIN:VCALENDAR
VERSION:2.0
PRODID:-//Seelsorgeeinheit Magdenau - ECPv5.14.2.1//NONSGML v1.0//EN
CALSCALE:GREGORIAN
METHOD:PUBLISH
X-WR-CALNAME:Seelsorgeeinheit Magdenau
X-ORIGINAL-URL:https://search.se-ma.ch
X-WR-CALDESC:Veranstaltungen für Seelsorgeeinheit Magdenau
BEGIN:VTIMEZONE
TZID:Europe/Zurich
BEGIN:DAYLIGHT
TZOFFSETFROM:+0100
TZOFFSETTO:+0200
TZNAME:CEST
DTSTART:20220327T010000
END:DAYLIGHT
BEGIN:STANDARD
TZOFFSETFROM:+0200
TZOFFSETTO:+0100
TZNAME:CET
DTSTART:20221030T010000
END:STANDARD
END:VTIMEZONE
BEGIN:VEVENT
DTSTART;VALUE=DATE:20220319
DTEND;VALUE=DATE:20220320
DTSTAMP:20260421T120221
CREATED:20220221T092347Z
LAST-MODIFIED:20220221T092347Z
UID:32404-1647648000-1647734399@search.se-ma.ch
SUMMARY:Frauen-Quellentag in Gossau
DESCRIPTION:Aufgerichtet werden – aufrecht im Leben stehen \nWeitere Informationen und Anmeldung \nDies ist ein Anlass des Schweizerischen Katholischen Bibelwerkes\, Diözesanverband St. Gallen
URL:https://search.se-ma.ch/event/frauen-quellentag-in-gossau/
LOCATION:Andreassaal Gossau\, Merkurstrasse 3\, 9200 Gossau\, Schweiz
CATEGORIES:Anlässe und Veranstaltungen
END:VEVENT
END:VCALENDAR