BEGIN:VCALENDAR
VERSION:2.0
PRODID:-//Seelsorgeeinheit Magdenau - ECPv5.14.2.1//NONSGML v1.0//EN
CALSCALE:GREGORIAN
METHOD:PUBLISH
X-WR-CALNAME:Seelsorgeeinheit Magdenau
X-ORIGINAL-URL:https://search.se-ma.ch
X-WR-CALDESC:Veranstaltungen für Seelsorgeeinheit Magdenau
BEGIN:VTIMEZONE
TZID:Europe/Zurich
BEGIN:DAYLIGHT
TZOFFSETFROM:+0100
TZOFFSETTO:+0200
TZNAME:CEST
DTSTART:20220327T010000
END:DAYLIGHT
BEGIN:STANDARD
TZOFFSETFROM:+0200
TZOFFSETTO:+0100
TZNAME:CET
DTSTART:20221030T010000
END:STANDARD
END:VTIMEZONE
BEGIN:VEVENT
DTSTART;VALUE=DATE:20220411
DTEND;VALUE=DATE:20220414
DTSTAMP:20260421T104349
CREATED:20220310T063704Z
LAST-MODIFIED:20220310T063704Z
UID:32706-1649635200-1649894399@search.se-ma.ch
SUMMARY:Jugendarbeit akj - Städtereise nach Luzern
DESCRIPTION:Für Jugendliche ab 12 Jahre bis Ende der Oberstufe \nEin Angebot der akj Thurland zusammen mit den Seelsorgeeinheiten der Region \nInformation und Anmeldung
URL:https://search.se-ma.ch/event/jugendarbeit-akj-staedtereise-nach-luzern/
CATEGORIES:Anlässe und Veranstaltungen,Kinder und Familien
END:VEVENT
END:VCALENDAR