BEGIN:VCALENDAR
VERSION:2.0
PRODID:-//Seelsorgeeinheit Magdenau - ECPv5.14.2.1//NONSGML v1.0//EN
CALSCALE:GREGORIAN
METHOD:PUBLISH
X-WR-CALNAME:Seelsorgeeinheit Magdenau
X-ORIGINAL-URL:https://search.se-ma.ch
X-WR-CALDESC:Veranstaltungen für Seelsorgeeinheit Magdenau
BEGIN:VTIMEZONE
TZID:Europe/Zurich
BEGIN:DAYLIGHT
TZOFFSETFROM:+0100
TZOFFSETTO:+0200
TZNAME:CEST
DTSTART:20220327T010000
END:DAYLIGHT
BEGIN:STANDARD
TZOFFSETFROM:+0200
TZOFFSETTO:+0100
TZNAME:CET
DTSTART:20221030T010000
END:STANDARD
END:VTIMEZONE
BEGIN:VEVENT
DTSTART;TZID=Europe/Zurich:20220308T190000
DTEND;TZID=Europe/Zurich:20220308T230000
DTSTAMP:20260421T102346
CREATED:20220216T071259Z
LAST-MODIFIED:20220216T071350Z
UID:32054-1646766000-1646780400@search.se-ma.ch
SUMMARY:Jugi Niederglatt
DESCRIPTION:Bowling-Abend
URL:https://search.se-ma.ch/event/jugi-niederglatt/
CATEGORIES:Anlässe und Veranstaltungen
END:VEVENT
END:VCALENDAR