BEGIN:VCALENDAR
VERSION:2.0
PRODID:-//Seelsorgeeinheit Magdenau - ECPv5.14.2.1//NONSGML v1.0//EN
CALSCALE:GREGORIAN
METHOD:PUBLISH
X-WR-CALNAME:Seelsorgeeinheit Magdenau
X-ORIGINAL-URL:https://search.se-ma.ch
X-WR-CALDESC:Veranstaltungen für Seelsorgeeinheit Magdenau
BEGIN:VTIMEZONE
TZID:Europe/Zurich
BEGIN:DAYLIGHT
TZOFFSETFROM:+0100
TZOFFSETTO:+0200
TZNAME:CEST
DTSTART:20220327T010000
END:DAYLIGHT
BEGIN:STANDARD
TZOFFSETFROM:+0200
TZOFFSETTO:+0100
TZNAME:CET
DTSTART:20221030T010000
END:STANDARD
END:VTIMEZONE
BEGIN:VEVENT
DTSTART;TZID=Europe/Zurich:20220327T110000
DTEND;TZID=Europe/Zurich:20220327T150000
DTSTAMP:20260421T104545
CREATED:20220216T071939Z
LAST-MODIFIED:20220228T092942Z
UID:32073-1648378800-1648393200@search.se-ma.ch
SUMMARY:Kolpingfamilie Flawil - Spaghettata mit Dessertbuffet
DESCRIPTION:Wir servieren traditionell die feine Pasta mit Bolognese- und Napolisauce. Anschliessend steht ein reichhaltiges Desserbuffet bereit. Der gesamte Erlös fliesst in die Fastenaktion. Wir freuen uns auf viele hungrige Gäste.
URL:https://search.se-ma.ch/event/kolpingfamilie-flawil-spaghettata-mit-dessertbuffet/
LOCATION:Pfarreizentrum Flawil\, Enzenbühlstrasse 16\, Flawil\, 9230\, Schweiz
CATEGORIES:Anlässe und Veranstaltungen,Kinder und Familien
END:VEVENT
END:VCALENDAR