BEGIN:VCALENDAR
VERSION:2.0
PRODID:-//Seelsorgeeinheit Magdenau - ECPv5.14.2.1//NONSGML v1.0//EN
CALSCALE:GREGORIAN
METHOD:PUBLISH
X-WR-CALNAME:Seelsorgeeinheit Magdenau
X-ORIGINAL-URL:https://search.se-ma.ch
X-WR-CALDESC:Veranstaltungen für Seelsorgeeinheit Magdenau
BEGIN:VTIMEZONE
TZID:Europe/Zurich
BEGIN:DAYLIGHT
TZOFFSETFROM:+0100
TZOFFSETTO:+0200
TZNAME:CEST
DTSTART:20220327T010000
END:DAYLIGHT
BEGIN:STANDARD
TZOFFSETFROM:+0200
TZOFFSETTO:+0100
TZNAME:CET
DTSTART:20221030T010000
END:STANDARD
END:VTIMEZONE
BEGIN:VEVENT
DTSTART;TZID=Europe/Zurich:20220904T101500
DTEND;TZID=Europe/Zurich:20220904T111500
DTSTAMP:20260421T114741
CREATED:20220206T093138Z
LAST-MODIFIED:20220206T093138Z
UID:31753-1662286500-1662290100@search.se-ma.ch
SUMMARY:ökum. Gottesdienst zum Erntedank in Flawil
DESCRIPTION:in der kath. Kirche
URL:https://search.se-ma.ch/event/oekum-gottesdienst-zum-erntedank-in-flawil-2/
LOCATION:St. Laurentius Kirche Flawil\, Enzenbühlstrasse 20\, Flawil\, 9230\, Schweiz
CATEGORIES:Gottesdienste,Kinder und Familien
END:VEVENT
END:VCALENDAR