BEGIN:VCALENDAR
VERSION:2.0
PRODID:-//Seelsorgeeinheit Magdenau - ECPv5.14.2.1//NONSGML v1.0//EN
CALSCALE:GREGORIAN
METHOD:PUBLISH
X-WR-CALNAME:Seelsorgeeinheit Magdenau
X-ORIGINAL-URL:https://search.se-ma.ch
X-WR-CALDESC:Veranstaltungen für Seelsorgeeinheit Magdenau
BEGIN:VTIMEZONE
TZID:Europe/Zurich
BEGIN:DAYLIGHT
TZOFFSETFROM:+0100
TZOFFSETTO:+0200
TZNAME:CEST
DTSTART:20220327T010000
END:DAYLIGHT
BEGIN:STANDARD
TZOFFSETFROM:+0200
TZOFFSETTO:+0100
TZNAME:CET
DTSTART:20221030T010000
END:STANDARD
END:VTIMEZONE
BEGIN:VEVENT
DTSTART;TZID=Europe/Zurich:20220405T143000
DTEND;TZID=Europe/Zurich:20220405T170000
DTSTAMP:20260421T103008
CREATED:20220309T091636Z
LAST-MODIFIED:20220309T091636Z
UID:32665-1649169000-1649178000@search.se-ma.ch
SUMMARY:Ökumenischer Seniorennachmittag in Degersheim
DESCRIPTION:mit der Theatergruppe „Silberfüchse Toggenburg“. \nDas dürfen Sie sich nicht entgehen lassen …! \n„D’Tante Adelheid spinnt“ – Eine Komödie in drei Akten von Ruth Kummer-Burri\, Regie: Edgar Morger\, Bazenheid.
URL:https://search.se-ma.ch/event/oekumenischer-seniorennachmittag-in-degersheim/
LOCATION:evang. Kirchgemeindehaus Degersheim\, Kirchweg 3\, Degersheim\, 9113\, Schweiz
CATEGORIES:Anlässe und Veranstaltungen
END:VEVENT
END:VCALENDAR