BEGIN:VCALENDAR
VERSION:2.0
PRODID:-//Seelsorgeeinheit Magdenau - ECPv5.14.2.1//NONSGML v1.0//EN
CALSCALE:GREGORIAN
METHOD:PUBLISH
X-WR-CALNAME:Seelsorgeeinheit Magdenau
X-ORIGINAL-URL:https://search.se-ma.ch
X-WR-CALDESC:Veranstaltungen für Seelsorgeeinheit Magdenau
BEGIN:VTIMEZONE
TZID:Europe/Zurich
BEGIN:DAYLIGHT
TZOFFSETFROM:+0100
TZOFFSETTO:+0200
TZNAME:CEST
DTSTART:20220327T010000
END:DAYLIGHT
BEGIN:STANDARD
TZOFFSETFROM:+0200
TZOFFSETTO:+0100
TZNAME:CET
DTSTART:20221030T010000
END:STANDARD
END:VTIMEZONE
BEGIN:VEVENT
DTSTART;TZID=Europe/Zurich:20220408T190000
DTEND;TZID=Europe/Zurich:20220408T230000
DTSTAMP:20260421T103904
CREATED:20220316T083808Z
LAST-MODIFIED:20220321T064841Z
UID:32772-1649444400-1649458800@search.se-ma.ch
SUMMARY:Spiele-Abend in Flawil
DESCRIPTION:Für junge Erwachsene zwischen 15 und 25 Jahre \nKennt ihr die Trendspiele Frantic und DOG? An diesem Abend machen wir die Türe für euch auf und ihr könnt einen lustigen Abend miteinander verbringen. Eine Anmeldung ist nicht zwingend\, vereinfacht uns aber die Vorbereitungen. Information und Anmeldung bei karin.reinli@se-ma.ch. \nFlyer Spieleabend
URL:https://search.se-ma.ch/event/spiele-abend-in-flawil/
LOCATION:Unterkapellenraum Flawil
CATEGORIES:Anlässe und Veranstaltungen
END:VEVENT
END:VCALENDAR