BEGIN:VCALENDAR
VERSION:2.0
PRODID:-//Seelsorgeeinheit Magdenau - ECPv5.14.2.1//NONSGML v1.0//EN
CALSCALE:GREGORIAN
METHOD:PUBLISH
X-WR-CALNAME:Seelsorgeeinheit Magdenau
X-ORIGINAL-URL:https://search.se-ma.ch
X-WR-CALDESC:Veranstaltungen für Seelsorgeeinheit Magdenau
BEGIN:VTIMEZONE
TZID:Europe/Zurich
BEGIN:DAYLIGHT
TZOFFSETFROM:+0100
TZOFFSETTO:+0200
TZNAME:CEST
DTSTART:20220327T010000
END:DAYLIGHT
BEGIN:STANDARD
TZOFFSETFROM:+0200
TZOFFSETTO:+0100
TZNAME:CET
DTSTART:20221030T010000
END:STANDARD
END:VTIMEZONE
BEGIN:VEVENT
DTSTART;TZID=Europe/Zurich:20220326T113000
DTEND;TZID=Europe/Zurich:20220326T130000
DTSTAMP:20260421T115617
CREATED:20220304T101750Z
LAST-MODIFIED:20220304T103126Z
UID:32574-1648294200-1648299600@search.se-ma.ch
SUMMARY:Suppentag mit Hauslieferdienst
DESCRIPTION:Am Samstag\, den 26. März 2022 geht der gesamte Erlös des Suppenverkaufs an das HEKS-Projekt «Ein Weg aus der Armut mit Pfeffer». Dieses Projekt unterstützt Kleinbauern in Kambodscha. Bestellungen der feinen Gulaschsuppe (3 dl Portion im Einweggefäss à 5 Franken) werden bis am Donnerstagmittag\, 24. März 2022 entgegen genommen. Bestellungen sind online möglich über die Homepage oder direkt bei Nadine Zwingli Meier\, Telefon 071 370 07 10 / Email nadine.zwingli@ref-degersheim.ch. Die Auslieferung erfolgt am Samstag\, 26. März 2022 zwischen 11.30 Uhr und 13 Uhr\, direkt an Ihre Haustür. Vielen Dank für Ihre Bestellungen.
URL:https://search.se-ma.ch/event/suppentag-mit-hauslieferdienst/
CATEGORIES:Anlässe und Veranstaltungen
END:VEVENT
END:VCALENDAR